BEGIN:VCALENDAR
VERSION:2.0
PRODID:-//RCS Meetup - ECPv6.3.3.1//NONSGML v1.0//EN
CALSCALE:GREGORIAN
METHOD:PUBLISH
X-WR-CALNAME:RCS Meetup
X-ORIGINAL-URL:https://rcs.hu
X-WR-CALDESC:Events for RCS Meetup
REFRESH-INTERVAL;VALUE=DURATION:PT1H
X-Robots-Tag:noindex
X-PUBLISHED-TTL:PT1H
BEGIN:VTIMEZONE
TZID:Europe/Paris
BEGIN:DAYLIGHT
TZOFFSETFROM:+0100
TZOFFSETTO:+0200
TZNAME:CEST
DTSTART:20250330T010000
END:DAYLIGHT
BEGIN:STANDARD
TZOFFSETFROM:+0200
TZOFFSETTO:+0100
TZNAME:CET
DTSTART:20251026T010000
END:STANDARD
END:VTIMEZONE
BEGIN:VEVENT
DTSTART;TZID=Europe/Paris:20250605T080000
DTEND;TZID=Europe/Paris:20250605T170000
DTSTAMP:20260422T003011
CREATED:20250309T205554Z
LAST-MODIFIED:20250402T095644Z
UID:2430-1749110400-1749142800@rcs.hu
SUMMARY:Teszt2025 esemény
DESCRIPTION:
URL:https://rcs.hu/event/teszt2025-esemeny/
END:VEVENT
END:VCALENDAR